BEGIN:VCALENDAR
VERSION:2.0
METHOD:PUBLISH
BEGIN:VEVENT
DTSTART:20220715T213000Z
DTEND:20220716T033000Z
LOCATION:Springdale, AR 72762
TRANSP: OPAQUE
SEQUENCE:0
UID:
DTSTAMP:20260423T233608Z
SUMMARY:Live Auction- Coins, Collectibles, furniture, household and more- Don Guthery Auctions & Associates
DESCRIPTION:Live Auction- Coins, Collectibles, furniture, household and more- Don Guthery Auctions & Associates Don Guthery Auctions 
UID:1777008968
STREET-ADDRESS:See website
POSTAL-CODE:72762
LOCALITY:Springdale
REGION:ABBREV=AR
COUNTRY:ABBREV=US;ABBREV=USA:United States
URL;TYPE=Event Listing:https://estatesales.org/estate-sales/ar/springdale/72762/live-auction-coins-collectibles-furniture-2069475
PRIORITY:1
CLASS:PUBLIC
SEQUENCE:0
STATUS:CONFIRMED
TRANSP:OPAQUE
END:VEVENT
END:VCALENDAR
