BEGIN:VCALENDAR
VERSION:2.0
METHOD:PUBLISH
BEGIN:VEVENT
DTSTART:20160715T150000Z
DTEND:20160716T210000Z
LOCATION:Milwaukee, WI 53227
TRANSP: OPAQUE
SEQUENCE:0
UID:
DTSTAMP:20260420T030216Z
SUMMARY:West Allis Estate Sale
DESCRIPTION:West Allis Estate Sale All in the Family Estate Sales 
UID:1776675736
STREET-ADDRESS:See website
POSTAL-CODE:53227
LOCALITY:Milwaukee
REGION:ABBREV=WI
COUNTRY:ABBREV=US;ABBREV=USA:United States
URL;TYPE=Event Listing:https://estatesales.org/estate-sales/wi/milwaukee/53227/west-allis-estate-sale-907577
PRIORITY:1
CLASS:PUBLIC
SEQUENCE:0
STATUS:CONFIRMED
TRANSP:OPAQUE
END:VEVENT
END:VCALENDAR
