BEGIN:VCALENDAR
VERSION:2.0
METHOD:PUBLISH
BEGIN:VEVENT
DTSTART:20160715T160000Z
DTEND:20160715T210000Z
LOCATION:Phoenix, AZ 85032
TRANSP: OPAQUE
SEQUENCE:0
UID:
DTSTAMP:20260425T162221Z
SUMMARY:Small Lots Estate Auction: July 15 - 9:00am
DESCRIPTION:Small Lots Estate Auction: July 15 - 9:00am Jonathan Roberts Auction House 
UID:1777155741
STREET-ADDRESS:See website
POSTAL-CODE:85032
LOCALITY:Phoenix
REGION:ABBREV=AZ
COUNTRY:ABBREV=US;ABBREV=USA:United States
URL;TYPE=Event Listing:https://estatesales.org/estate-sales/az/phoenix/85032/small-lots-estate-auction-july-908605
PRIORITY:1
CLASS:PUBLIC
SEQUENCE:0
STATUS:CONFIRMED
TRANSP:OPAQUE
END:VEVENT
END:VCALENDAR
