BEGIN:VCALENDAR
VERSION:2.0
METHOD:PUBLISH
BEGIN:VEVENT
DTSTART:20160716T010000Z
DTEND:20160716T050000Z
LOCATION:Phoenix, AZ 85032
TRANSP: OPAQUE
SEQUENCE:0
UID:
DTSTAMP:20260425T162220Z
SUMMARY:Multi Estate Auction - Friday July 15 - 6:00pm
DESCRIPTION:Multi Estate Auction - Friday July 15 - 6:00pm Jonathan Roberts Auction House 
UID:1777155740
STREET-ADDRESS:See website
POSTAL-CODE:85032
LOCALITY:Phoenix
REGION:ABBREV=AZ
COUNTRY:ABBREV=US;ABBREV=USA:United States
URL;TYPE=Event Listing:https://estatesales.org/estate-sales/az/phoenix/85032/multi-estate-auction-friday-july-908657
PRIORITY:1
CLASS:PUBLIC
SEQUENCE:0
STATUS:CONFIRMED
TRANSP:OPAQUE
END:VEVENT
END:VCALENDAR
