BEGIN:VCALENDAR
VERSION:2.0
METHOD:PUBLISH
BEGIN:VEVENT
DTSTART:20230714T143000Z
DTEND:20230716T200000Z
LOCATION:Tampa, FL 33609
TRANSP: OPAQUE
SEQUENCE:0
UID:
DTSTAMP:20260421T145111Z
SUMMARY:3 Day South Tampa Estate Sale
DESCRIPTION:3 Day South Tampa Estate Sale Done Deal Estate Sales and Appraisals, LLC 
UID:1776804671
STREET-ADDRESS:See website
POSTAL-CODE:33609
LOCALITY:Tampa
REGION:ABBREV=FL
COUNTRY:ABBREV=US;ABBREV=USA:United States
URL;TYPE=Event Listing:https://estatesales.org/estate-sales/fl/tampa/33609/3-day-south-tampa-estate-2207335
PRIORITY:1
CLASS:PUBLIC
SEQUENCE:0
STATUS:CONFIRMED
TRANSP:OPAQUE
END:VEVENT
END:VCALENDAR
