BEGIN:VCALENDAR
VERSION:2.0
METHOD:PUBLISH
BEGIN:VEVENT
DTSTART:20170714T100000Z
DTEND:20170719T013000Z
LOCATION:Fort Lauderdale, FL 33305
TRANSP: OPAQUE
SEQUENCE:0
UID:
DTSTAMP:20260423T090357Z
SUMMARY:Summer Clearance Sale and Auction! Buy It Now or Bid Online!
DESCRIPTION:Summer Clearance Sale and Auction! Buy It Now or Bid Online! Wilton Gallery 
UID:1776956637
STREET-ADDRESS:See website
POSTAL-CODE:33305
LOCALITY:Fort Lauderdale
REGION:ABBREV=FL
COUNTRY:ABBREV=US;ABBREV=USA:United States
URL;TYPE=Event Listing:https://estatesales.org/estate-sales/fl/fort-lauderdale/33305/summer-clearance-sale-and-auction-1299971
PRIORITY:1
CLASS:PUBLIC
SEQUENCE:0
STATUS:CONFIRMED
TRANSP:OPAQUE
END:VEVENT
END:VCALENDAR
