BEGIN:VCALENDAR
VERSION:2.0
METHOD:PUBLISH
BEGIN:VEVENT
DTSTART:20240713T130000Z
DTEND:20240714T170000Z
LOCATION:Manlius, NY 13104
TRANSP: OPAQUE
SEQUENCE:0
UID:
DTSTAMP:20260423T074746Z
SUMMARY:Manlius Estate Sale
DESCRIPTION:Manlius Estate Sale Clear Horizon Estate Services 
UID:1776952066
STREET-ADDRESS:See website
POSTAL-CODE:13104
LOCALITY:Manlius
REGION:ABBREV=NY
COUNTRY:ABBREV=US;ABBREV=USA:United States
URL;TYPE=Event Listing:https://estatesales.org/estate-sales/ny/manlius/13104/manlius-estate-sale-2326639
PRIORITY:1
CLASS:PUBLIC
SEQUENCE:0
STATUS:CONFIRMED
TRANSP:OPAQUE
END:VEVENT
END:VCALENDAR
