BEGIN:VCALENDAR
VERSION:2.0
METHOD:PUBLISH
BEGIN:VEVENT
DTSTART:20230713T150000Z
DTEND:20230715T220000Z
LOCATION:Riverside, CA 92504
TRANSP: OPAQUE
SEQUENCE:0
UID:
DTSTAMP:20260419T223743Z
SUMMARY:Huge 3 Day Riverside Sale with Many New Items Including Appliances, Jewelry & Notions, Sewing Machines, Toys, Games & Collections! 
DESCRIPTION:Huge 3 Day Riverside Sale with Many New Items Including Appliances, Jewelry & Notions, Sewing Machines, Toys, Games & Collections!  Estate Sales by Dee 
UID:1776659863
STREET-ADDRESS:See website
POSTAL-CODE:92504
LOCALITY:Riverside
REGION:ABBREV=CA
COUNTRY:ABBREV=US;ABBREV=USA:United States
URL;TYPE=Event Listing:https://estatesales.org/estate-sales/ca/riverside/92504/huge-3-day-riverside-sale-2205945
PRIORITY:1
CLASS:PUBLIC
SEQUENCE:0
STATUS:CONFIRMED
TRANSP:OPAQUE
END:VEVENT
END:VCALENDAR
