BEGIN:VCALENDAR
VERSION:2.0
METHOD:PUBLISH
BEGIN:VEVENT
DTSTART:20170713T150000Z
DTEND:20170715T190000Z
LOCATION:Arlington, WA 98223
TRANSP: OPAQUE
SEQUENCE:0
UID:
DTSTAMP:20260424T133525Z
SUMMARY:A&W Helping Hands "Arlington " Estate sale
DESCRIPTION:A&W Helping Hands "Arlington " Estate sale A&W Helping Hands Estate Sale services and full cleanouts 
UID:1777059325
STREET-ADDRESS:See website
POSTAL-CODE:98223
LOCALITY:Arlington
REGION:ABBREV=WA
COUNTRY:ABBREV=US;ABBREV=USA:United States
URL;TYPE=Event Listing:https://estatesales.org/estate-sales/wa/arlington/98223/aw-helping-hands-arlington-estate-1284581
PRIORITY:1
CLASS:PUBLIC
SEQUENCE:0
STATUS:CONFIRMED
TRANSP:OPAQUE
END:VEVENT
END:VCALENDAR
