BEGIN:VCALENDAR
VERSION:2.0
METHOD:PUBLISH
BEGIN:VEVENT
DTSTART:20250712T170000Z
DTEND:20250712T210000Z
LOCATION:Palo Alto, CA 94303
TRANSP: OPAQUE
SEQUENCE:0
UID:
DTSTAMP:20260419T061833Z
SUMMARY:TJDGs Summer Estate Sale Encore!
DESCRIPTION:TJDGs Summer Estate Sale Encore! The Junk & Disorderly Girls 
UID:1776601113
STREET-ADDRESS:See website
POSTAL-CODE:94303
LOCALITY:Palo Alto
REGION:ABBREV=CA
COUNTRY:ABBREV=US;ABBREV=USA:United States
URL;TYPE=Event Listing:https://estatesales.org/estate-sales/ca/palo-alto/94303/tjdgs-summer-estate-sale-encore-2389392
PRIORITY:1
CLASS:PUBLIC
SEQUENCE:0
STATUS:CONFIRMED
TRANSP:OPAQUE
END:VEVENT
END:VCALENDAR
