BEGIN:VCALENDAR
VERSION:2.0
METHOD:PUBLISH
BEGIN:VEVENT
DTSTART:20250712T130000Z
DTEND:20250713T180000Z
LOCATION:Parkville, MD 21234
TRANSP: OPAQUE
SEQUENCE:0
UID:
DTSTAMP:20260425T203539Z
SUMMARY:Butterflies and Treasures in Parkville
DESCRIPTION:Butterflies and Treasures in Parkville Homeward Bound LLC 
UID:1777170939
STREET-ADDRESS:See website
POSTAL-CODE:21234
LOCALITY:Parkville
REGION:ABBREV=MD
COUNTRY:ABBREV=US;ABBREV=USA:United States
URL;TYPE=Event Listing:https://estatesales.org/estate-sales/md/parkville/21234/butterflies-and-treasures-in-parkville-2385679
PRIORITY:1
CLASS:PUBLIC
SEQUENCE:0
STATUS:CONFIRMED
TRANSP:OPAQUE
END:VEVENT
END:VCALENDAR
