BEGIN:VCALENDAR
VERSION:2.0
METHOD:PUBLISH
BEGIN:VEVENT
DTSTART:20240712T160000Z
DTEND:20240713T210000Z
LOCATION:San Marcos, CA 92069
TRANSP: OPAQUE
SEQUENCE:0
UID:
DTSTAMP:20260424T052720Z
SUMMARY:Unique San Marcos Estate
DESCRIPTION:Unique San Marcos Estate Summers Estate Liquidation 
UID:1777030040
STREET-ADDRESS:See website
POSTAL-CODE:92069
LOCALITY:San Marcos
REGION:ABBREV=CA
COUNTRY:ABBREV=US;ABBREV=USA:United States
URL;TYPE=Event Listing:https://estatesales.org/estate-sales/ca/san-marcos/92069/unique-san-marcos-estate-2326297
PRIORITY:1
CLASS:PUBLIC
SEQUENCE:0
STATUS:CONFIRMED
TRANSP:OPAQUE
END:VEVENT
END:VCALENDAR
