BEGIN:VCALENDAR
VERSION:2.0
METHOD:PUBLISH
BEGIN:VEVENT
DTSTART:20240712T150000Z
DTEND:20240713T210000Z
LOCATION:Riverside, CA 92506
TRANSP: OPAQUE
SEQUENCE:0
UID:
DTSTAMP:20260423T062234Z
SUMMARY:LUXURIOUS CANYON CREST HOME FILLED WITH DESIGNER FURNITURE
DESCRIPTION:LUXURIOUS CANYON CREST HOME FILLED WITH DESIGNER FURNITURE All Treasures Estate Sales 
UID:1776946954
STREET-ADDRESS:See website
POSTAL-CODE:92506
LOCALITY:Riverside
REGION:ABBREV=CA
COUNTRY:ABBREV=US;ABBREV=USA:United States
URL;TYPE=Event Listing:https://estatesales.org/estate-sales/ca/riverside/92506/luxurious-canyon-crest-home-filled-2326731
PRIORITY:1
CLASS:PUBLIC
SEQUENCE:0
STATUS:CONFIRMED
TRANSP:OPAQUE
END:VEVENT
END:VCALENDAR
