BEGIN:VCALENDAR
VERSION:2.0
METHOD:PUBLISH
BEGIN:VEVENT
DTSTART:20190712T140000Z
DTEND:20190713T210000Z
LOCATION:Elm Grove, LA 71051
TRANSP: OPAQUE
SEQUENCE:0
UID:
DTSTAMP:20260421T032602Z
SUMMARY:Lets Geaux to Bistineau Primative Craft House Adventure!  
DESCRIPTION:Lets Geaux to Bistineau Primative Craft House Adventure!   Antique Hustle Estate Sales 
UID:1776763562
STREET-ADDRESS:See website
POSTAL-CODE:71051
LOCALITY:Elm Grove
REGION:ABBREV=LA
COUNTRY:ABBREV=US;ABBREV=USA:United States
URL;TYPE=Event Listing:https://estatesales.org/estate-sales/la/elm-grove/71051/lets-geaux-to-bistineau-primative-1687445
PRIORITY:1
CLASS:PUBLIC
SEQUENCE:0
STATUS:CONFIRMED
TRANSP:OPAQUE
END:VEVENT
END:VCALENDAR
