BEGIN:VCALENDAR
VERSION:2.0
METHOD:PUBLISH
BEGIN:VEVENT
DTSTART:20130712T123000Z
DTEND:20130714T180000Z
LOCATION:Richardson, TX 75080
TRANSP: OPAQUE
SEQUENCE:0
UID:
DTSTAMP:20260425T122445Z
SUMMARY:BlueMoonEstates' SuperCaliFragiListicExpialESTATESALE!
DESCRIPTION:BlueMoonEstates' SuperCaliFragiListicExpialESTATESALE! Blue Moon Estates - Estate Sales, Events &amp; Services 
UID:1777141485
STREET-ADDRESS:See website
POSTAL-CODE:75080
LOCALITY:Richardson
REGION:ABBREV=TX
COUNTRY:ABBREV=US;ABBREV=USA:United States
URL;TYPE=Event Listing:https://estatesales.org/estate-sales/tx/richardson/75080/bluemoonestates-supercalifragilisticexpialestatesale-292005
PRIORITY:1
CLASS:PUBLIC
SEQUENCE:0
STATUS:CONFIRMED
TRANSP:OPAQUE
END:VEVENT
END:VCALENDAR
