BEGIN:VCALENDAR
VERSION:2.0
METHOD:PUBLISH
BEGIN:VEVENT
DTSTART:20250711T160000Z
DTEND:20250712T210000Z
LOCATION:Glendora, CA 91741
TRANSP: OPAQUE
SEQUENCE:0
UID:
DTSTAMP:20260423T214640Z
SUMMARY:Grasons Integrity Glendora Estate Sale Friday & Saturday
DESCRIPTION:Grasons Integrity Glendora Estate Sale Friday & Saturday Grasons Co Integrity Estate Sale Services 
UID:1777002400
STREET-ADDRESS:See website
POSTAL-CODE:91741
LOCALITY:Glendora
REGION:ABBREV=CA
COUNTRY:ABBREV=US;ABBREV=USA:United States
URL;TYPE=Event Listing:https://estatesales.org/estate-sales/ca/glendora/91741/grasons-integrity-glendora-estate-sale-2389160
PRIORITY:1
CLASS:PUBLIC
SEQUENCE:0
STATUS:CONFIRMED
TRANSP:OPAQUE
END:VEVENT
END:VCALENDAR
