BEGIN:VCALENDAR
VERSION:2.0
METHOD:PUBLISH
BEGIN:VEVENT
DTSTART:20240711T140000Z
DTEND:20240713T220000Z
LOCATION:Oconomowoc, WI 53066
TRANSP: OPAQUE
SEQUENCE:0
UID:
DTSTAMP:20260420T005451Z
SUMMARY:Estate Sale Oconomowoc
DESCRIPTION:Estate Sale Oconomowoc
UID:1776668091
STREET-ADDRESS:See website
POSTAL-CODE:53066
LOCALITY:Oconomowoc
REGION:ABBREV=WI
COUNTRY:ABBREV=US;ABBREV=USA:United States
URL;TYPE=Event Listing:https://estatesales.org/estate-sales/wi/oconomowoc-/53066/estate-sale-oconomowoc-2326011
PRIORITY:1
CLASS:PUBLIC
SEQUENCE:0
STATUS:CONFIRMED
TRANSP:OPAQUE
END:VEVENT
END:VCALENDAR
