BEGIN:VCALENDAR
VERSION:2.0
METHOD:PUBLISH
BEGIN:VEVENT
DTSTART:20200711T150000Z
DTEND:20200712T220000Z
LOCATION:Boise, ID 83706
TRANSP: OPAQUE
SEQUENCE:0
UID:
DTSTAMP:20260419T213303Z
SUMMARY:Guardian Estate Solutions
DESCRIPTION:Guardian Estate Solutions Guardian Estate Solutions, LLC. 
UID:1776655983
STREET-ADDRESS:See website
POSTAL-CODE:83706
LOCALITY:Boise
REGION:ABBREV=ID
COUNTRY:ABBREV=US;ABBREV=USA:United States
URL;TYPE=Event Listing:https://estatesales.org/estate-sales/id/boise/83706/guardian-estate-solutions-1791701
PRIORITY:1
CLASS:PUBLIC
SEQUENCE:0
STATUS:CONFIRMED
TRANSP:OPAQUE
END:VEVENT
END:VCALENDAR
