BEGIN:VCALENDAR
VERSION:2.0
METHOD:PUBLISH
BEGIN:VEVENT
DTSTART:20120711T170000Z
DTEND:20120717T010000Z
LOCATION:By appointment only.
TRANSP: OPAQUE
SEQUENCE:0
UID:
DTSTAMP:20260424T121808Z
SUMMARY:Estate liquidation
DESCRIPTION:Estate liquidation S&S ESTATE SALES 
UID:1777054688
STREET-ADDRESS:See website
POSTAL-CODE:94612
LOCALITY:Oakland
REGION:ABBREV=CA
COUNTRY:ABBREV=US;ABBREV=USA:United States
URL;TYPE=Event Listing:https://estatesales.org/estate-sales/ca/oakland/94612/estate-liquidation-184920
PRIORITY:1
CLASS:PUBLIC
SEQUENCE:0
STATUS:CONFIRMED
TRANSP:OPAQUE
END:VEVENT
END:VCALENDAR
