BEGIN:VCALENDAR
VERSION:2.0
METHOD:PUBLISH
BEGIN:VEVENT
DTSTART:20250710T140000Z
DTEND:20250712T190000Z
LOCATION:Virginia Beach, VA 23451
TRANSP: OPAQUE
SEQUENCE:0
UID:
DTSTAMP:20260421T032602Z
SUMMARY:7/10-7/12 3 DAY LIVING ESTATE SALE CONTENTS OF $2.8 MILLION DOLLAR BEACHFRONT 7 BEDROOM HOME 8502 #A OCEAN FRONT AVE. VIRGINIA BEACH VA 23451
DESCRIPTION:7/10-7/12 3 DAY LIVING ESTATE SALE CONTENTS OF $2.8 MILLION DOLLAR BEACHFRONT 7 BEDROOM HOME 8502 #A OCEAN FRONT AVE. VIRGINIA BEACH VA 23451 Randy's Auction Gallery Ltd. 
UID:1776763562
STREET-ADDRESS:See website
POSTAL-CODE:23451
LOCALITY:Virginia Beach
REGION:ABBREV=VA
COUNTRY:ABBREV=US;ABBREV=USA:United States
URL;TYPE=Event Listing:https://estatesales.org/estate-sales/va/virginia-beach/23451/710712-3-day-living-estate-2388663
PRIORITY:1
CLASS:PUBLIC
SEQUENCE:0
STATUS:CONFIRMED
TRANSP:OPAQUE
END:VEVENT
END:VCALENDAR
