BEGIN:VCALENDAR
VERSION:2.0
METHOD:PUBLISH
BEGIN:VEVENT
DTSTART:20250710T120000Z
DTEND:20250712T180000Z
LOCATION:Naples, FL 34109
TRANSP: OPAQUE
SEQUENCE:0
UID:
DTSTAMP:20260420T154652Z
SUMMARY:+++LAST DAY 50% OFF SAT! ALL MUST GO!!! Numerous Very Nice & Nifty Wares In Naples Estate Sale
DESCRIPTION:+++LAST DAY 50% OFF SAT! ALL MUST GO!!! Numerous Very Nice & Nifty Wares In Naples Estate Sale Allegro Estate Sales FL 
UID:1776721612
STREET-ADDRESS:See website
POSTAL-CODE:34109
LOCALITY:Naples
REGION:ABBREV=FL
COUNTRY:ABBREV=US;ABBREV=USA:United States
URL;TYPE=Event Listing:https://estatesales.org/estate-sales/fl/naples/34109/friday-25-off-just-need-2387796
PRIORITY:1
CLASS:PUBLIC
SEQUENCE:0
STATUS:CONFIRMED
TRANSP:OPAQUE
END:VEVENT
END:VCALENDAR
