BEGIN:VCALENDAR
VERSION:2.0
METHOD:PUBLISH
BEGIN:VEVENT
DTSTART:20240710T130000Z
DTEND:20240713T190000Z
LOCATION:Westwood, NJ 07675
TRANSP: OPAQUE
SEQUENCE:0
UID:
DTSTAMP:20260423T131058Z
SUMMARY:Town & Country Estate Sales
DESCRIPTION:Town & Country Estate Sales Town & Country Estate & Moving Sales 
UID:1776971458
STREET-ADDRESS:See website
POSTAL-CODE:07675
LOCALITY:Westwood
REGION:ABBREV=NJ
COUNTRY:ABBREV=US;ABBREV=USA:United States
URL;TYPE=Event Listing:https://estatesales.org/estate-sales/nj/river-vale/07675/town-country-estate-sales-2326428
PRIORITY:1
CLASS:PUBLIC
SEQUENCE:0
STATUS:CONFIRMED
TRANSP:OPAQUE
END:VEVENT
END:VCALENDAR
