BEGIN:VCALENDAR
VERSION:2.0
METHOD:PUBLISH
BEGIN:VEVENT
DTSTART:20200710T140000Z
DTEND:20200711T200000Z
LOCATION:Deerfield, IL 60015
TRANSP: OPAQUE
SEQUENCE:0
UID:
DTSTAMP:20260424T170840Z
SUMMARY:Ampersand Estate Sale in Deerfield, IL. July 10 & 11, 2020
DESCRIPTION:Ampersand Estate Sale in Deerfield, IL. July 10 & 11, 2020 Ampersand Estate Sales 
UID:1777072120
STREET-ADDRESS:See website
POSTAL-CODE:60015
LOCALITY:Deerfield
REGION:ABBREV=IL
COUNTRY:ABBREV=US;ABBREV=USA:United States
URL;TYPE=Event Listing:https://estatesales.org/estate-sales/il/deerfield/60015/ampersand-estate-sale-in-deerfield-1795353
PRIORITY:1
CLASS:PUBLIC
SEQUENCE:0
STATUS:CONFIRMED
TRANSP:OPAQUE
END:VEVENT
END:VCALENDAR
