BEGIN:VCALENDAR
VERSION:2.0
METHOD:PUBLISH
BEGIN:VEVENT
DTSTART:20200710T190000Z
DTEND:20200712T190000Z
LOCATION:Chesterfield, MO 63017
TRANSP: OPAQUE
SEQUENCE:0
UID:
DTSTAMP:20260419T163231Z
SUMMARY:Chesterfield estate with something for everyone!
DESCRIPTION:Chesterfield estate with something for everyone! Lizzy Lou Estate Sales, LLC 
UID:1776637951
STREET-ADDRESS:See website
POSTAL-CODE:63017
LOCALITY:Chesterfield
REGION:ABBREV=MO
COUNTRY:ABBREV=US;ABBREV=USA:United States
URL;TYPE=Event Listing:https://estatesales.org/estate-sales/mo/chesterfield/63017/chesterfield-estate-with-something-for-1796319
PRIORITY:1
CLASS:PUBLIC
SEQUENCE:0
STATUS:CONFIRMED
TRANSP:OPAQUE
END:VEVENT
END:VCALENDAR
