BEGIN:VCALENDAR
VERSION:2.0
METHOD:PUBLISH
BEGIN:VEVENT
DTSTART:20190710T140000Z
DTEND:20190713T200000Z
LOCATION:Italy, TX 76651
TRANSP: OPAQUE
SEQUENCE:0
UID:
DTSTAMP:20260424T215844Z
SUMMARY:Lakeside Estate Sale in Avalon/Italy, TX
DESCRIPTION:Lakeside Estate Sale in Avalon/Italy, TX Lakeside Estate Sales, CGL LLC. 
UID:1777089524
STREET-ADDRESS:See website
POSTAL-CODE:76651
LOCALITY:Italy
REGION:ABBREV=TX
COUNTRY:ABBREV=US;ABBREV=USA:United States
URL;TYPE=Event Listing:https://estatesales.org/estate-sales/tx/italy/76651/lakeside-estate-sale-in-avalonitaly-1684839
PRIORITY:1
CLASS:PUBLIC
SEQUENCE:0
STATUS:CONFIRMED
TRANSP:OPAQUE
END:VEVENT
END:VCALENDAR
