BEGIN:VCALENDAR
VERSION:2.0
METHOD:PUBLISH
BEGIN:VEVENT
DTSTART:20150710T150000Z
DTEND:20150712T210000Z
LOCATION:Oak Creek, WI 53154
TRANSP: OPAQUE
SEQUENCE:0
UID:
DTSTAMP:20260420T030215Z
SUMMARY:Oak Creek Guys Sale!!! Tools,Tools,Tools and Hardware
DESCRIPTION:Oak Creek Guys Sale!!! Tools,Tools,Tools and Hardware All in the Family Estate Sales 
UID:1776675735
STREET-ADDRESS:See website
POSTAL-CODE:53154
LOCALITY:Oak Creek
REGION:ABBREV=WI
COUNTRY:ABBREV=US;ABBREV=USA:United States
URL;TYPE=Event Listing:https://estatesales.org/estate-sales/wi/oak-creek/53154/oak-creek-guys-sale-toolstoolstools-618649
PRIORITY:1
CLASS:PUBLIC
SEQUENCE:0
STATUS:CONFIRMED
TRANSP:OPAQUE
END:VEVENT
END:VCALENDAR
