BEGIN:VCALENDAR
VERSION:2.0
METHOD:PUBLISH
BEGIN:VEVENT
DTSTART:20150710T130000Z
DTEND:20150712T210000Z
LOCATION:New Milford, NJ 07646
TRANSP: OPAQUE
SEQUENCE:0
UID:
DTSTAMP:20260421T082229Z
SUMMARY:Garden Estate Sales is in New Milford. Pheonix & Consolidated Art Glass Collection. Furniture. Art. Outdoor Architectural Pieces.  MORE
DESCRIPTION:Garden Estate Sales is in New Milford. Pheonix & Consolidated Art Glass Collection. Furniture. Art. Outdoor Architectural Pieces.  MORE Garden E-state Sales &amp; Liquidations 
UID:1776781349
STREET-ADDRESS:See website
POSTAL-CODE:07646
LOCALITY:New Milford
REGION:ABBREV=NJ
COUNTRY:ABBREV=US;ABBREV=USA:United States
URL;TYPE=Event Listing:https://estatesales.org/estate-sales/nj/new-milford/07646/garden-estate-sales-is-in-618299
PRIORITY:1
CLASS:PUBLIC
SEQUENCE:0
STATUS:CONFIRMED
TRANSP:OPAQUE
END:VEVENT
END:VCALENDAR
