BEGIN:VCALENDAR
VERSION:2.0
METHOD:PUBLISH
BEGIN:VEVENT
DTSTART:20220709T120000Z
DTEND:20220710T180000Z
LOCATION:Hazelwood, MO 63042
TRANSP: OPAQUE
SEQUENCE:0
UID:
DTSTAMP:20260419T103838Z
SUMMARY:Man Cave In Hazelwood
DESCRIPTION:Man Cave In Hazelwood STL Antiques & Estate Sales 
UID:1776616718
STREET-ADDRESS:See website
POSTAL-CODE:63042
LOCALITY:Hazelwood
REGION:ABBREV=MO
COUNTRY:ABBREV=US;ABBREV=USA:United States
URL;TYPE=Event Listing:https://estatesales.org/estate-sales/mo/hazelwood/63042/man-cave-in-hazelwood-2064065
PRIORITY:1
CLASS:PUBLIC
SEQUENCE:0
STATUS:CONFIRMED
TRANSP:OPAQUE
END:VEVENT
END:VCALENDAR
