BEGIN:VCALENDAR
VERSION:2.0
METHOD:PUBLISH
BEGIN:VEVENT
DTSTART:20210709T160000Z
DTEND:20210710T230000Z
LOCATION:Broomfield, CO 80020
TRANSP: OPAQUE
SEQUENCE:0
UID:
DTSTAMP:20260419T113744Z
SUMMARY:Gingerly
DESCRIPTION:Gingerly AWAY IT GOES ESTATE SALES 
UID:1776620264
STREET-ADDRESS:See website
POSTAL-CODE:80020
LOCALITY:Broomfield
REGION:ABBREV=CO
COUNTRY:ABBREV=US;ABBREV=USA:United States
URL;TYPE=Event Listing:https://estatesales.org/estate-sales/co/broomfield/80020/gingerly-1928141
PRIORITY:1
CLASS:PUBLIC
SEQUENCE:0
STATUS:CONFIRMED
TRANSP:OPAQUE
END:VEVENT
END:VCALENDAR
