BEGIN:VCALENDAR
VERSION:2.0
METHOD:PUBLISH
BEGIN:VEVENT
DTSTART:20200709T150000Z
DTEND:20200711T210000Z
LOCATION:Bossier City, LA 71112
TRANSP: OPAQUE
SEQUENCE:0
UID:
DTSTAMP:20260421T032515Z
SUMMARY:A lifetime collection at the Red River Events Center
DESCRIPTION:A lifetime collection at the Red River Events Center Antique Hustle Estate Sales 
UID:1776763515
STREET-ADDRESS:See website
POSTAL-CODE:71112
LOCALITY:Bossier City
REGION:ABBREV=LA
COUNTRY:ABBREV=US;ABBREV=USA:United States
URL;TYPE=Event Listing:https://estatesales.org/estate-sales/la/bossier-city/71112/a-lifetime-collection-at-the-1796215
PRIORITY:1
CLASS:PUBLIC
SEQUENCE:0
STATUS:CONFIRMED
TRANSP:OPAQUE
END:VEVENT
END:VCALENDAR
