BEGIN:VCALENDAR
VERSION:2.0
METHOD:PUBLISH
BEGIN:VEVENT
DTSTART:20200709T160000Z
DTEND:20200711T210000Z
LOCATION:Denver, CO 80229
TRANSP: OPAQUE
SEQUENCE:0
UID:
DTSTAMP:20260422T132418Z
SUMMARY:TOOLS and treasures in N.Denver
DESCRIPTION:TOOLS and treasures in N.Denver TCS Estate Sales 
UID:1776885858
STREET-ADDRESS:See website
POSTAL-CODE:80229
LOCALITY:Denver
REGION:ABBREV=CO
COUNTRY:ABBREV=US;ABBREV=USA:United States
URL;TYPE=Event Listing:https://estatesales.org/estate-sales/co/denver/80229/north-denver-sale-1798405
PRIORITY:1
CLASS:PUBLIC
SEQUENCE:0
STATUS:CONFIRMED
TRANSP:OPAQUE
END:VEVENT
END:VCALENDAR
