BEGIN:VCALENDAR
VERSION:2.0
METHOD:PUBLISH
BEGIN:VEVENT
DTSTART:20100709T150000Z
DTEND:20100710T220000Z
LOCATION:West Covina, CA 91790
TRANSP: OPAQUE
SEQUENCE:0
UID:
DTSTAMP:20260422T211659Z
SUMMARY:Estate Sale Friday & Saturday July 9 & 10
DESCRIPTION:Estate Sale Friday & Saturday July 9 & 10 Harper Appraisals & Estate Sale Services 
UID:1776914219
STREET-ADDRESS:See website
POSTAL-CODE:91790
LOCALITY:West Covina
REGION:ABBREV=CA
COUNTRY:ABBREV=US;ABBREV=USA:United States
URL;TYPE=Event Listing:https://estatesales.org/estate-sales/ca/west-covina/91790/estate-sale-friday-saturday-july-53619
PRIORITY:1
CLASS:PUBLIC
SEQUENCE:0
STATUS:CONFIRMED
TRANSP:OPAQUE
END:VEVENT
END:VCALENDAR
