BEGIN:VCALENDAR
VERSION:2.0
METHOD:PUBLISH
BEGIN:VEVENT
DTSTART:20230708T150000Z
DTEND:20230710T000000Z
LOCATION:Vancouver, WA 98684
TRANSP: OPAQUE
SEQUENCE:0
UID:
DTSTAMP:20260419T152347Z
SUMMARY:End of life benefit sale
DESCRIPTION:End of life benefit sale Estate Liquidation Relocation Services 
UID:1776633827
STREET-ADDRESS:See website
POSTAL-CODE:98684
LOCALITY:Vancouver
REGION:ABBREV=WA
COUNTRY:ABBREV=US;ABBREV=USA:United States
URL;TYPE=Event Listing:https://estatesales.org/estate-sales/wa/vancouver-/98684/end-of-life-benefit-sale-2205089
PRIORITY:1
CLASS:PUBLIC
SEQUENCE:0
STATUS:CONFIRMED
TRANSP:OPAQUE
END:VEVENT
END:VCALENDAR
