BEGIN:VCALENDAR
VERSION:2.0
METHOD:PUBLISH
BEGIN:VEVENT
DTSTART:20220708T170000Z
DTEND:20220710T210000Z
LOCATION:Soquel, CA 95073
TRANSP: OPAQUE
SEQUENCE:0
UID:
DTSTAMP:20260421T115742Z
SUMMARY:Soquel Estate Sale
DESCRIPTION:Soquel Estate Sale A Move Made SImple 
UID:1776794262
STREET-ADDRESS:See website
POSTAL-CODE:95073
LOCALITY:Soquel
REGION:ABBREV=CA
COUNTRY:ABBREV=US;ABBREV=USA:United States
URL;TYPE=Event Listing:https://estatesales.org/estate-sales/ca/soquel/95073/soquel-estate-sale-2066315
PRIORITY:1
CLASS:PUBLIC
SEQUENCE:0
STATUS:CONFIRMED
TRANSP:OPAQUE
END:VEVENT
END:VCALENDAR
