BEGIN:VCALENDAR
VERSION:2.0
METHOD:PUBLISH
BEGIN:VEVENT
DTSTART:20220708T150000Z
DTEND:20220710T200000Z
LOCATION:Aurora, OR 97002
TRANSP: OPAQUE
SEQUENCE:0
UID:
DTSTAMP:20260419T113745Z
SUMMARY:Aurora Estate Sale
DESCRIPTION:Aurora Estate Sale Elizabeth Ann's Estate Sales 
UID:1776620265
STREET-ADDRESS:See website
POSTAL-CODE:97002
LOCALITY:Aurora
REGION:ABBREV=OR
COUNTRY:ABBREV=US;ABBREV=USA:United States
URL;TYPE=Event Listing:https://estatesales.org/estate-sales/or/aurora/97002/aurora-estate-sale-2062215
PRIORITY:1
CLASS:PUBLIC
SEQUENCE:0
STATUS:CONFIRMED
TRANSP:OPAQUE
END:VEVENT
END:VCALENDAR
