BEGIN:VCALENDAR
VERSION:2.0
METHOD:PUBLISH
BEGIN:VEVENT
DTSTART:20220708T130000Z
DTEND:20220710T170000Z
LOCATION:Springdale, AR 72764
TRANSP: OPAQUE
SEQUENCE:0
UID:
DTSTAMP:20260423T131100Z
SUMMARY:Incredible Springdale Estate
DESCRIPTION:Incredible Springdale Estate Bella Vista Estate Sales and Service 
UID:1776971460
STREET-ADDRESS:See website
POSTAL-CODE:72764
LOCALITY:Springdale
REGION:ABBREV=AR
COUNTRY:ABBREV=US;ABBREV=USA:United States
URL;TYPE=Event Listing:https://estatesales.org/estate-sales/ar/springdale/72764/incredible-springdale-estate-2065177
PRIORITY:1
CLASS:PUBLIC
SEQUENCE:0
STATUS:CONFIRMED
TRANSP:OPAQUE
END:VEVENT
END:VCALENDAR
