BEGIN:VCALENDAR
VERSION:2.0
METHOD:PUBLISH
BEGIN:VEVENT
DTSTART:20220708T150000Z
DTEND:20220709T210000Z
LOCATION:Oklahoma City, OK 73162
TRANSP: OPAQUE
SEQUENCE:0
UID:
DTSTAMP:20260425T162414Z
SUMMARY:Cute, Clean, & Comfy off Council OKC Estate Sale
DESCRIPTION:Cute, Clean, & Comfy off Council OKC Estate Sale Roadrunner Estate Sales 
UID:1777155854
STREET-ADDRESS:See website
POSTAL-CODE:73162
LOCALITY:Oklahoma City
REGION:ABBREV=OK
COUNTRY:ABBREV=US;ABBREV=USA:United States
URL;TYPE=Event Listing:https://estatesales.org/estate-sales/ok/oklahoma-city/73162/cute-clean-comfy-off-council-2064807
PRIORITY:1
CLASS:PUBLIC
SEQUENCE:0
STATUS:CONFIRMED
TRANSP:OPAQUE
END:VEVENT
END:VCALENDAR
