BEGIN:VCALENDAR
VERSION:2.0
METHOD:PUBLISH
BEGIN:VEVENT
DTSTART:20220708T153000Z
DTEND:20220709T223000Z
LOCATION:Bakersfield, CA 93309
TRANSP: OPAQUE
SEQUENCE:0
UID:
DTSTAMP:20260422T084604Z
SUMMARY:Kern city MCM delights
DESCRIPTION:Kern city MCM delights All About You Liquidation 
UID:1776869164
STREET-ADDRESS:See website
POSTAL-CODE:93309
LOCALITY:Bakersfield
REGION:ABBREV=CA
COUNTRY:ABBREV=US;ABBREV=USA:United States
URL;TYPE=Event Listing:https://estatesales.org/estate-sales/ca/bakersfield/93309/kern-city-mcm-delights-2065219
PRIORITY:1
CLASS:PUBLIC
SEQUENCE:0
STATUS:CONFIRMED
TRANSP:OPAQUE
END:VEVENT
END:VCALENDAR
