BEGIN:VCALENDAR
VERSION:2.0
METHOD:PUBLISH
BEGIN:VEVENT
DTSTART:20230707T160000Z
DTEND:20230710T203000Z
LOCATION:Commerce City, CO 80022
TRANSP: OPAQUE
SEQUENCE:0
UID:
DTSTAMP:20260419T113746Z
SUMMARY:Grahams living estate
DESCRIPTION:Grahams living estate AWAY IT GOES ESTATE SALES 
UID:1776620266
STREET-ADDRESS:See website
POSTAL-CODE:80022
LOCALITY:Commerce City
REGION:ABBREV=CO
COUNTRY:ABBREV=US;ABBREV=USA:United States
URL;TYPE=Event Listing:https://estatesales.org/estate-sales/co/commerce-city/80022/grahams-living-estate-2204629
PRIORITY:1
CLASS:PUBLIC
SEQUENCE:0
STATUS:CONFIRMED
TRANSP:OPAQUE
END:VEVENT
END:VCALENDAR
