BEGIN:VCALENDAR
VERSION:2.0
METHOD:PUBLISH
BEGIN:VEVENT
DTSTART:20230707T130000Z
DTEND:20230708T180000Z
LOCATION:Sharon, MA 02067
TRANSP: OPAQUE
SEQUENCE:0
UID:
DTSTAMP:20260420T012527Z
SUMMARY:Sharon Estate Sale
DESCRIPTION:Sharon Estate Sale Hidden Treasures Estate Sales & Cleanouts 
UID:1776669927
STREET-ADDRESS:See website
POSTAL-CODE:02067
LOCALITY:Sharon
REGION:ABBREV=MA
COUNTRY:ABBREV=US;ABBREV=USA:United States
URL;TYPE=Event Listing:https://estatesales.org/estate-sales/ma/sharon/02067/sharon-estate-sale-2201431
PRIORITY:1
CLASS:PUBLIC
SEQUENCE:0
STATUS:CONFIRMED
TRANSP:OPAQUE
END:VEVENT
END:VCALENDAR
