BEGIN:VCALENDAR
VERSION:2.0
METHOD:PUBLISH
BEGIN:VEVENT
DTSTART:20230707T160000Z
DTEND:20230708T210000Z
LOCATION:Mesa, AZ 85212
TRANSP: OPAQUE
SEQUENCE:0
UID:
DTSTAMP:20260421T230520Z
SUMMARY:Great Eclectic Home located in Mesa 
DESCRIPTION:Great Eclectic Home located in Mesa  Boyds AZ 
UID:1776834320
STREET-ADDRESS:See website
POSTAL-CODE:85212
LOCALITY:Mesa
REGION:ABBREV=AZ
COUNTRY:ABBREV=US;ABBREV=USA:United States
URL;TYPE=Event Listing:https://estatesales.org/estate-sales/az/mesa/85212/great-eclectic-home-located-in-2196019
PRIORITY:1
CLASS:PUBLIC
SEQUENCE:0
STATUS:CONFIRMED
TRANSP:OPAQUE
END:VEVENT
END:VCALENDAR
