BEGIN:VCALENDAR
VERSION:2.0
METHOD:PUBLISH
BEGIN:VEVENT
DTSTART:20220707T140000Z
DTEND:20220708T190000Z
LOCATION:Schaumburg, IL 60193
TRANSP: OPAQUE
SEQUENCE:0
UID:
DTSTAMP:20260425T144051Z
SUMMARY:Grasons Co of NW Chicagoland Schaumburg Bring your own box/bin $5.00 blowout
DESCRIPTION:Grasons Co of NW Chicagoland Schaumburg Bring your own box/bin $5.00 blowout Grasons Co of NW Chicagoland 
UID:1777149651
STREET-ADDRESS:See website
POSTAL-CODE:60193
LOCALITY:Schaumburg
REGION:ABBREV=IL
COUNTRY:ABBREV=US;ABBREV=USA:United States
URL;TYPE=Event Listing:https://estatesales.org/estate-sales/il/schaumburg/60193/grasons-co-of-nw-chicagoland-2062337
PRIORITY:1
CLASS:PUBLIC
SEQUENCE:0
STATUS:CONFIRMED
TRANSP:OPAQUE
END:VEVENT
END:VCALENDAR
