BEGIN:VCALENDAR
VERSION:2.0
METHOD:PUBLISH
BEGIN:VEVENT
DTSTART:20240706T160000Z
DTEND:20240707T220000Z
LOCATION:Topanga, CA 91364
TRANSP: OPAQUE
SEQUENCE:0
UID:
DTSTAMP:20260420T044102Z
SUMMARY:DISCOUNT SUNDAY Woodland Hills Estate Sale 4th of July SALE
DESCRIPTION:DISCOUNT SUNDAY Woodland Hills Estate Sale 4th of July SALE Hidden Treasure Estate Sales 
UID:1776681662
STREET-ADDRESS:See website
POSTAL-CODE:91364
LOCALITY:Topanga
REGION:ABBREV=CA
COUNTRY:ABBREV=US;ABBREV=USA:United States
URL;TYPE=Event Listing:https://estatesales.org/estate-sales/ca/topanga/91364/woodland-hills-estate-sale-2325194
PRIORITY:1
CLASS:PUBLIC
SEQUENCE:0
STATUS:CONFIRMED
TRANSP:OPAQUE
END:VEVENT
END:VCALENDAR
