BEGIN:VCALENDAR
VERSION:2.0
METHOD:PUBLISH
BEGIN:VEVENT
DTSTART:20180706T160000Z
DTEND:20180707T200000Z
LOCATION:Racine, WI 53402
TRANSP: OPAQUE
SEQUENCE:0
UID:
DTSTAMP:20260420T182608Z
SUMMARY:BELLE CITY RESALE WAREHOUSE PURGE
DESCRIPTION:BELLE CITY RESALE WAREHOUSE PURGE Belle City Resale LLC 
UID:1776731168
STREET-ADDRESS:See website
POSTAL-CODE:53402
LOCALITY:Racine
REGION:ABBREV=WI
COUNTRY:ABBREV=US;ABBREV=USA:United States
URL;TYPE=Event Listing:https://estatesales.org/estate-sales/wi/racine/53402/belle-city-resale-warehouse-purge-1539353
PRIORITY:1
CLASS:PUBLIC
SEQUENCE:0
STATUS:CONFIRMED
TRANSP:OPAQUE
END:VEVENT
END:VCALENDAR
