BEGIN:VCALENDAR
VERSION:2.0
METHOD:PUBLISH
BEGIN:VEVENT
DTSTART:20180706T150000Z
DTEND:20180708T200000Z
LOCATION:Denver, CO 80226
TRANSP: OPAQUE
SEQUENCE:0
UID:
DTSTAMP:20260420T204618Z
SUMMARY:After The 4th of July Sale in Lakewood
DESCRIPTION:After The 4th of July Sale in Lakewood Adan’s Hidden Treasures Estate Sale Company 
UID:1776739578
STREET-ADDRESS:See website
POSTAL-CODE:80226
LOCALITY:Denver
REGION:ABBREV=CO
COUNTRY:ABBREV=US;ABBREV=USA:United States
URL;TYPE=Event Listing:https://estatesales.org/estate-sales/co/lakewood/80226/after-the-4th-of-july-1538177
PRIORITY:1
CLASS:PUBLIC
SEQUENCE:0
STATUS:CONFIRMED
TRANSP:OPAQUE
END:VEVENT
END:VCALENDAR
