BEGIN:VCALENDAR
VERSION:2.0
METHOD:PUBLISH
BEGIN:VEVENT
DTSTART:20180706T130000Z
DTEND:20180707T190000Z
LOCATION:Monroe, MI 48162
TRANSP: OPAQUE
SEQUENCE:0
UID:
DTSTAMP:20260424T012512Z
SUMMARY:HUGE INDOOR/OUTDOOR SALE IN MONROE, MI
DESCRIPTION:HUGE INDOOR/OUTDOOR SALE IN MONROE, MI TLC Premiere Estate Sales, LLC 
UID:1777015512
STREET-ADDRESS:See website
POSTAL-CODE:48162
LOCALITY:Monroe
REGION:ABBREV=MI
COUNTRY:ABBREV=US;ABBREV=USA:United States
URL;TYPE=Event Listing:https://estatesales.org/estate-sales/mi/monroe/48162/huge-indooroutdoor-sale-in-monroe-1538685
PRIORITY:1
CLASS:PUBLIC
SEQUENCE:0
STATUS:CONFIRMED
TRANSP:OPAQUE
END:VEVENT
END:VCALENDAR
