BEGIN:VCALENDAR
VERSION:2.0
METHOD:PUBLISH
BEGIN:VEVENT
DTSTART:20250705T130000Z
DTEND:20250706T200000Z
LOCATION:Tenafly, NJ 07670
TRANSP: OPAQUE
SEQUENCE:0
UID:
DTSTAMP:20260423T131059Z
SUMMARY:Town & Country Estate Sales
DESCRIPTION:Town & Country Estate Sales Town & Country Estate & Moving Sales 
UID:1776971459
STREET-ADDRESS:See website
POSTAL-CODE:07670
LOCALITY:Tenafly
REGION:ABBREV=NJ
COUNTRY:ABBREV=US;ABBREV=USA:United States
URL;TYPE=Event Listing:https://estatesales.org/estate-sales/nj/tenafly/07670/town-country-estate-sales-2388356
PRIORITY:1
CLASS:PUBLIC
SEQUENCE:0
STATUS:CONFIRMED
TRANSP:OPAQUE
END:VEVENT
END:VCALENDAR
