BEGIN:VCALENDAR
VERSION:2.0
METHOD:PUBLISH
BEGIN:VEVENT
DTSTART:20240705T170000Z
DTEND:20240707T220000Z
LOCATION:San Jose, CA 95132
TRANSP: OPAQUE
SEQUENCE:0
UID:
DTSTAMP:20260420T051829Z
SUMMARY:THREE DAY SAN JOSE ESTATE SALE - FRI, SAT & SUN - JULY 5, 6 & 7 - 10AM TO 3PM
DESCRIPTION:THREE DAY SAN JOSE ESTATE SALE - FRI, SAT & SUN - JULY 5, 6 & 7 - 10AM TO 3PM Family Treasures Estate Liquidators 
UID:1776683909
STREET-ADDRESS:See website
POSTAL-CODE:95132
LOCALITY:San Jose
REGION:ABBREV=CA
COUNTRY:ABBREV=US;ABBREV=USA:United States
URL;TYPE=Event Listing:https://estatesales.org/estate-sales/ca/san-jose/95132/three-day-san-jose-estate-2325564
PRIORITY:1
CLASS:PUBLIC
SEQUENCE:0
STATUS:CONFIRMED
TRANSP:OPAQUE
END:VEVENT
END:VCALENDAR
