BEGIN:VCALENDAR
VERSION:2.0
METHOD:PUBLISH
BEGIN:VEVENT
DTSTART:20240705T140000Z
DTEND:20240707T220000Z
LOCATION:Manitou Springs, CO 80829
TRANSP: OPAQUE
SEQUENCE:0
UID:
DTSTAMP:20260420T204011Z
SUMMARY:A Collector’s ( or Dealers) Dream Sale! A diverse, beautiful collection of Native American art, western collectibles, antiques, silver, wildlife mounts, art
DESCRIPTION:A Collector’s ( or Dealers) Dream Sale! A diverse, beautiful collection of Native American art, western collectibles, antiques, silver, wildlife mounts, art Total Care Estate and Property Services 
UID:1776739211
STREET-ADDRESS:See website
POSTAL-CODE:80829
LOCALITY:Manitou Springs
REGION:ABBREV=CO
COUNTRY:ABBREV=US;ABBREV=USA:United States
URL;TYPE=Event Listing:https://estatesales.org/estate-sales/co/manitou-springs/80829/a-collectors-or-dealers-dream-2324358
PRIORITY:1
CLASS:PUBLIC
SEQUENCE:0
STATUS:CONFIRMED
TRANSP:OPAQUE
END:VEVENT
END:VCALENDAR
