BEGIN:VCALENDAR
VERSION:2.0
METHOD:PUBLISH
BEGIN:VEVENT
DTSTART:20190705T150000Z
DTEND:20190707T200000Z
LOCATION:Charlottesville, VA 22901
TRANSP: OPAQUE
SEQUENCE:0
UID:
DTSTAMP:20260423T203436Z
SUMMARY:Packed Sale in Charlottesville
DESCRIPTION:Packed Sale in Charlottesville Estate Sales and Services LLC 
UID:1776998076
STREET-ADDRESS:See website
POSTAL-CODE:22901
LOCALITY:Charlottesville
REGION:ABBREV=VA
COUNTRY:ABBREV=US;ABBREV=USA:United States
URL;TYPE=Event Listing:https://estatesales.org/estate-sales/va/charlottesville/22901/packed-sale-in-charlottesville-1685185
PRIORITY:1
CLASS:PUBLIC
SEQUENCE:0
STATUS:CONFIRMED
TRANSP:OPAQUE
END:VEVENT
END:VCALENDAR
